BEGIN:VCALENDAR
VERSION:2.0
PRODID:-//Abettor Brewing Company - ECPv6.8.1//NONSGML v1.0//EN
CALSCALE:GREGORIAN
METHOD:PUBLISH
X-WR-CALNAME:Abettor Brewing Company
X-ORIGINAL-URL:https://abettorbeer.com
X-WR-CALDESC:Events for Abettor Brewing Company
REFRESH-INTERVAL;VALUE=DURATION:PT1H
X-Robots-Tag:noindex
X-PUBLISHED-TTL:PT1H
BEGIN:VTIMEZONE
TZID:America/New_York
BEGIN:DAYLIGHT
TZOFFSETFROM:-0500
TZOFFSETTO:-0400
TZNAME:EDT
DTSTART:20240310T070000
END:DAYLIGHT
BEGIN:STANDARD
TZOFFSETFROM:-0400
TZOFFSETTO:-0500
TZNAME:EST
DTSTART:20241103T060000
END:STANDARD
TZID:America/New_York
BEGIN:DAYLIGHT
TZOFFSETFROM:-0500
TZOFFSETTO:-0400
TZNAME:EDT
DTSTART:20240310T070000
END:DAYLIGHT
BEGIN:STANDARD
TZOFFSETFROM:-0400
TZOFFSETTO:-0500
TZNAME:EST
DTSTART:20241103T060000
END:STANDARD
END:VTIMEZONE
BEGIN:VEVENT
DTSTART;TZID=America/New_York:20241207T170000
DTEND;TZID=America/New_York:20241207T190000
DTSTAMP:20260420T010246
CREATED:20241113T175500Z
LAST-MODIFIED:20241113T182403Z
UID:1867-1733590800-1733598000@abettorbeer.com
SUMMARY:Christmas On Depot Street: A Christmas Vendor Fair
DESCRIPTION:
URL:https://abettorbeer.com/event/christmas-on-depot-street-a-christmas-vendor-fair/
LOCATION:Abettor Brewing Company\, 128 North Highland Street\, Winchester\, KY\, 40391\, United States
ATTACH;FMTTYPE=image/png:https://abettorbeer.com/wp-content/uploads/2024/11/13-1.png
END:VEVENT
BEGIN:VEVENT
DTSTART;TZID=America/New_York:20241130T190000
DTEND;TZID=America/New_York:20241130T210000
DTSTAMP:20260420T010246
CREATED:20241113T175305Z
LAST-MODIFIED:20241113T182430Z
UID:1864-1732993200-1733000400@abettorbeer.com
SUMMARY:Puzzle Night
DESCRIPTION:  \n-Sign up starts at 6:30.-Puzzles assigned at 7:00-Teams are limited to 4 persons.You have as much time as you need to finish your 500pc puzzle.Once you have completed your puzzle\, see an Abettor employee to confirm your completion.Prize Support:1st- $30 gift card2nd- $15 gift card3rd- Abettor branded pint glasses for your team. Limit 4.
URL:https://abettorbeer.com/event/puzzle-night/
LOCATION:Abettor Brewing Company\, 128 North Highland Street\, Winchester\, KY\, 40391\, United States
ATTACH;FMTTYPE=image/jpeg:https://abettorbeer.com/wp-content/uploads/2024/11/464559823_1141983177932197_512210742828553803_n.jpg
END:VEVENT
BEGIN:VEVENT
DTSTART;TZID=America/New_York:20241122T190000
DTEND;TZID=America/New_York:20241122T210000
DTSTAMP:20260420T010246
CREATED:20241113T175110Z
LAST-MODIFIED:20241113T182444Z
UID:1862-1732302000-1732309200@abettorbeer.com
SUMMARY:FairyTails Fundraiser Bingo: Dolly Parton Party
DESCRIPTION:  \nGet your big hair\, boots and bell bottoms ready for Dolly Parton Night: A Bingo Fundraiser for Jolene! We will be having a Dolly Parton Look-Alike Contest that night as well so come dressed as Dolly!\n\nJolene\n*Female*Approximately 3 years old; Catahoula Leopard\, 55 lbs*Potty trained*Energetic and loves to run; very people friendly*Can jump 4 foot fencing$200 Adoption fee\n“Jolene” has been with us since December!! FairyTails Pet Adoptions had her Heartworm treatment done and she’s been attending training classes regularly. She is so very loved and adored by all of our staff and volunteers! She has patiently waited for over 8 months.. She could really use some love. What home would suit her best?Active homefenced yard or large farm settingshe can be dog selectivemust be able to afford her toy obsessionbig loving personalityhousetrainedolder children
URL:https://abettorbeer.com/event/1862/
LOCATION:Abettor Brewing Company\, 128 North Highland Street\, Winchester\, KY\, 40391\, United States
ATTACH;FMTTYPE=image/png:https://abettorbeer.com/wp-content/uploads/2024/11/12.png
END:VEVENT
BEGIN:VEVENT
DTSTART;TZID=America/New_York:20241116T190000
DTEND;TZID=America/New_York:20241116T210000
DTSTAMP:20260420T010246
CREATED:20241113T174805Z
LAST-MODIFIED:20241113T182457Z
UID:1860-1731783600-1731790800@abettorbeer.com
SUMMARY:Ms. Roper Romp: Bing  For A Cause
DESCRIPTION:  \nGet your wig and caftan out again! Join us November 16 for the next Mrs. Roper’s Romp. We will be playing B-I-N-G-O! at Abettor Brewing Company\, 128 North Highland St. Winchester. The event is a fundraiser for All Voices Reading Room\nThe first game will begin at 7pm. Bingo cards are $10.00.\nALL are welcome. Bring friends!\n\nAll Voices Reading Room is an inclusive library being developed here in Clark County. Their current focus is in curating a literary collection for the LGBTQIA+ community as well as fostering a support system through social and educational events. They strive to support all marginalized communities by supporting diversity and inclusion. They are working toward obtaining a brick and mortar space for people to gather\, Until then\, they are planning events and pop-ups for Winchester to take advantage of and enjoy.
URL:https://abettorbeer.com/event/ms-roper-romp-bing-for-a-cause/
LOCATION:KY
ATTACH;FMTTYPE=image/png:https://abettorbeer.com/wp-content/uploads/2024/11/Event-Covers.png
END:VEVENT
BEGIN:VEVENT
DTSTART;TZID=America/New_York:20241111T080000
DTEND;TZID=America/New_York:20241117T170000
DTSTAMP:20260420T010246
CREATED:20241113T174509Z
LAST-MODIFIED:20241113T182515Z
UID:1857-1731312000-1731862800@abettorbeer.com
SUMMARY:Week of 11/11/2024
DESCRIPTION:
URL:https://abettorbeer.com/event/week-of-11-11-2024/
LOCATION:Abettor Brewing Company\, 128 North Highland Street\, Winchester\, KY\, 40391\, United States
ATTACH;FMTTYPE=image/png:https://abettorbeer.com/wp-content/uploads/2024/11/17-1.png
END:VEVENT
END:VCALENDAR